BEGIN:VCALENDAR
VERSION:2.0
PRODID:-//Park and Recreation - Prince Georges County MD - ECPv6.15.18//NONSGML v1.0//EN
CALSCALE:GREGORIAN
METHOD:PUBLISH
X-ORIGINAL-URL:https://history.pgparks.com
X-WR-CALDESC:Events for Park and Recreation - Prince Georges County MD
REFRESH-INTERVAL;VALUE=DURATION:PT1H
X-Robots-Tag:noindex
X-PUBLISHED-TTL:PT1H
BEGIN:VTIMEZONE
TZID:America/New_York
BEGIN:DAYLIGHT
TZOFFSETFROM:-0500
TZOFFSETTO:-0400
TZNAME:EDT
DTSTART:20250309T070000
END:DAYLIGHT
BEGIN:STANDARD
TZOFFSETFROM:-0400
TZOFFSETTO:-0500
TZNAME:EST
DTSTART:20251102T060000
END:STANDARD
BEGIN:DAYLIGHT
TZOFFSETFROM:-0500
TZOFFSETTO:-0400
TZNAME:EDT
DTSTART:20260308T070000
END:DAYLIGHT
BEGIN:STANDARD
TZOFFSETFROM:-0400
TZOFFSETTO:-0500
TZNAME:EST
DTSTART:20261101T060000
END:STANDARD
BEGIN:DAYLIGHT
TZOFFSETFROM:-0500
TZOFFSETTO:-0400
TZNAME:EDT
DTSTART:20270314T070000
END:DAYLIGHT
BEGIN:STANDARD
TZOFFSETFROM:-0400
TZOFFSETTO:-0500
TZNAME:EST
DTSTART:20271107T060000
END:STANDARD
END:VTIMEZONE
BEGIN:VEVENT
DTSTART;TZID=America/New_York:20260203T090000
DTEND;TZID=America/New_York:20260203T103000
DTSTAMP:20260423T210347
CREATED:20251210T184346Z
LAST-MODIFIED:20260326T132314Z
UID:10000779-1770109200-1770114600@history.pgparks.com
SUMMARY:Fit & Strong
DESCRIPTION:Are you looking for a class to improve exercise frequency\, increase strength\, and help with goal setting to promote overall health? Join us for Fit & Strong\, a program that combines aerobics\, stretching\, balance\, strength\, endurance exercises\, and health education to promote healthy behavior changes. 
URL:https://history.pgparks.com/event_list/fit-strong/2026-02-03
CATEGORIES:Fitness,Free,Health & Wellness
ATTACH;FMTTYPE=image/jpeg:https://history.pgparks.com/wp-content/uploads/2026/02/Fit-and-Strong-2026-600x400-1.jpg
END:VEVENT
BEGIN:VEVENT
DTSTART;TZID=America/New_York:20260204T120000
DTEND;TZID=America/New_York:20260204T130000
DTSTAMP:20260423T210347
CREATED:20251111T222649Z
LAST-MODIFIED:20260203T154313Z
UID:10000161-1770206400-1770210000@history.pgparks.com
SUMMARY:Lunchtime Lecture\, Historical D.C. Black School - Canceled
DESCRIPTION:This event has been canceled\n\n\n\nDirector of the D.C. Summer School Kimberly Springer will share the Black history of D.C. public education.
URL:https://history.pgparks.com/event_list/lunchtime-lecture-historical-d-c-black-school
CATEGORIES:Black History,Black History Month,History,Lifestyle & Learning,Senior,Youth
ATTACH;FMTTYPE=image/png:https://history.pgparks.com/wp-content/uploads/2025/11/Lunchtime-Lecture-600x400-1.png
END:VEVENT
BEGIN:VEVENT
DTSTART;TZID=America/New_York:20260204T130000
DTEND;TZID=America/New_York:20260204T140000
DTSTAMP:20260423T210347
CREATED:20251210T141135Z
LAST-MODIFIED:20251210T141137Z
UID:10000596-1770210000-1770213600@history.pgparks.com
SUMMARY:Heart Smart Cooking Demonstration 
DESCRIPTION:Explore new recipes that are smart for your heart health! During this session\, you will learn how to prepare recipes that are heart-healthy and packed with fiber to keep you fuller for longer. Registration required. All ages welcome. FREE 
URL:https://history.pgparks.com/event_list/heart-smart-cooking-demonstration
CATEGORIES:Health & Wellness,Lifestyle & Learning
ATTACH;FMTTYPE=image/jpeg:https://history.pgparks.com/wp-content/uploads/2025/12/Heart-Smart-Cooking-Demonstration.jpg
END:VEVENT
BEGIN:VEVENT
DTSTART;TZID=America/New_York:20260205T090000
DTEND;TZID=America/New_York:20260205T103000
DTSTAMP:20260423T210347
CREATED:20251210T184346Z
LAST-MODIFIED:20260326T132314Z
UID:10000780-1770282000-1770287400@history.pgparks.com
SUMMARY:Fit & Strong
DESCRIPTION:Are you looking for a class to improve exercise frequency\, increase strength\, and help with goal setting to promote overall health? Join us for Fit & Strong\, a program that combines aerobics\, stretching\, balance\, strength\, endurance exercises\, and health education to promote healthy behavior changes. 
URL:https://history.pgparks.com/event_list/fit-strong/2026-02-05
CATEGORIES:Fitness,Free,Health & Wellness
ATTACH;FMTTYPE=image/jpeg:https://history.pgparks.com/wp-content/uploads/2026/02/Fit-and-Strong-2026-600x400-1.jpg
END:VEVENT
BEGIN:VEVENT
DTSTART;TZID=America/New_York:20260207T100000
DTEND;TZID=America/New_York:20260207T110000
DTSTAMP:20260423T210347
CREATED:20251210T144054Z
LAST-MODIFIED:20260227T171844Z
UID:10000709-1770458400-1770462000@history.pgparks.com
SUMMARY:I Heart Zumba
DESCRIPTION:Dance your way into fitness with a family Zumba® class! This class brings together all members of your family for fun and easy-to-follow dance moves to upbeat music!Registration Required. Level: All.
URL:https://history.pgparks.com/event_list/i-heart-zumba/2026-02-07
CATEGORIES:Fitness,Free,Health & Wellness
ATTACH;FMTTYPE=image/jpeg:https://history.pgparks.com/wp-content/uploads/2025/12/I-Heart-Zumba.jpg
END:VEVENT
BEGIN:VEVENT
DTSTART;TZID=America/New_York:20260207T103000
DTEND;TZID=America/New_York:20260207T113000
DTSTAMP:20260423T210347
CREATED:20251210T143547Z
LAST-MODIFIED:20260227T171930Z
UID:10000653-1770460200-1770463800@history.pgparks.com
SUMMARY:I Heart Yoga
DESCRIPTION:Stretch toward your fitness goals! Learn basic yoga to improve health and flexibility through deep breathing and controlled stretching. Reduce stress\, get better sleep\, and build muscle stamina as you practice new or previously learned yoga skills.
URL:https://history.pgparks.com/event_list/i-heart-yoga-2/2026-02-07
CATEGORIES:Fitness,Free,Health & Wellness,Lifestyle & Learning
ATTACH;FMTTYPE=image/jpeg:https://history.pgparks.com/wp-content/uploads/2025/12/I-Heart-Yoga.jpg
END:VEVENT
BEGIN:VEVENT
DTSTART;TZID=America/New_York:20260207T120000
DTEND;TZID=America/New_York:20260207T160000
DTSTAMP:20260423T210347
CREATED:20251224T141430Z
LAST-MODIFIED:20260303T181019Z
UID:10000890-1770465600-1770480000@history.pgparks.com
SUMMARY:Dinosaur Park Open House
DESCRIPTION:Dinosaur Park Open Houses are a free public program on the first and third Saturday of every month and the second Sunday in the summer. No reservations required. Come join us and learn more about fossils\, including the dinosaurs who used to call Maryland home. Guests can expect an orientation and then the opportunity to search the surface of the ground for fossils. No prior registration required. ASL interpretation is offered at each event. All park rules apply (listed below).1. Closed toed shoes required2. No pets or tools allowed inside the fossil site3. Guests cannot cross the rope fence4. There is no digging during this program. All fossils are naturally eroding from the ground5. No running in the fossil site6. No throwing rocks or rolling rocks7. All scientifically important fossils will be kept in trust with the commission to be used for current and future research
URL:https://history.pgparks.com/event_list/dinosaur-park-open-house/2026-02-07
CATEGORIES:All Ages,Free,History,Lifestyle & Learning,Youth
ATTACH;FMTTYPE=image/png:https://history.pgparks.com/wp-content/uploads/2025/12/Dinosaur-Park-600x400-1.png
END:VEVENT
BEGIN:VEVENT
DTSTART;TZID=America/New_York:20260210T090000
DTEND;TZID=America/New_York:20260210T103000
DTSTAMP:20260423T210347
CREATED:20251210T184346Z
LAST-MODIFIED:20260326T132314Z
UID:10000781-1770714000-1770719400@history.pgparks.com
SUMMARY:Fit & Strong
DESCRIPTION:Are you looking for a class to improve exercise frequency\, increase strength\, and help with goal setting to promote overall health? Join us for Fit & Strong\, a program that combines aerobics\, stretching\, balance\, strength\, endurance exercises\, and health education to promote healthy behavior changes. 
URL:https://history.pgparks.com/event_list/fit-strong/2026-02-10
CATEGORIES:Fitness,Free,Health & Wellness
ATTACH;FMTTYPE=image/jpeg:https://history.pgparks.com/wp-content/uploads/2026/02/Fit-and-Strong-2026-600x400-1.jpg
END:VEVENT
BEGIN:VEVENT
DTSTART;TZID=America/New_York:20260212T090000
DTEND;TZID=America/New_York:20260212T103000
DTSTAMP:20260423T210347
CREATED:20251210T184346Z
LAST-MODIFIED:20260326T132314Z
UID:10000782-1770886800-1770892200@history.pgparks.com
SUMMARY:Fit & Strong
DESCRIPTION:Are you looking for a class to improve exercise frequency\, increase strength\, and help with goal setting to promote overall health? Join us for Fit & Strong\, a program that combines aerobics\, stretching\, balance\, strength\, endurance exercises\, and health education to promote healthy behavior changes. 
URL:https://history.pgparks.com/event_list/fit-strong/2026-02-12
CATEGORIES:Fitness,Free,Health & Wellness
ATTACH;FMTTYPE=image/jpeg:https://history.pgparks.com/wp-content/uploads/2026/02/Fit-and-Strong-2026-600x400-1.jpg
END:VEVENT
BEGIN:VEVENT
DTSTART;TZID=America/New_York:20260212T093000
DTEND;TZID=America/New_York:20260212T103000
DTSTAMP:20260423T210347
CREATED:20251210T185614Z
LAST-MODIFIED:20260327T133752Z
UID:10000845-1770888600-1770892200@history.pgparks.com
SUMMARY:Living Strong
DESCRIPTION:Whether you’re a graduate of Fit & Strong! or new to group fitness and would like a challenge\, Living Strong is a great way to stay active and build strength in a supportive environment. This class includes strength training\, aerobic exercise\, balance\, flexibility and more\, along with goal setting to help you stay motivated and consistent. Come improve your endurance\, boost your energy\, and keep Living Strong!
URL:https://history.pgparks.com/event_list/living-strong/2026-02-12
CATEGORIES:Fitness,Health & Wellness,Senior
ATTACH;FMTTYPE=image/jpeg:https://history.pgparks.com/wp-content/uploads/2026/02/Living-Strong-2026-600x400-1.jpg
END:VEVENT
BEGIN:VEVENT
DTSTART;TZID=America/New_York:20260212T180000
DTEND;TZID=America/New_York:20260212T190000
DTSTAMP:20260423T210347
CREATED:20251210T145432Z
LAST-MODIFIED:20260127T172508Z
UID:10000765-1770919200-1770922800@history.pgparks.com
SUMMARY:Heart-Healthy Soul Food Cooking Demonstration
DESCRIPTION:Celebrate Black History Month and Heart Health Month with a delicious twist on tradition. Join us for a virtual cooking demonstration that honors the rich culinary heritage of African American communities while reimagining classic soul food dishes with heart-healthy ingredients.
URL:https://history.pgparks.com/event_list/heart-healthy-soul-food-cooking-demonstration
CATEGORIES:Black History Month,Health & Wellness,Lifestyle & Learning,Virtual
ATTACH;FMTTYPE=image/jpeg:https://history.pgparks.com/wp-content/uploads/2025/12/Heart-Healthy-Soul-Food-Cooking-Demonstration.jpg
END:VEVENT
BEGIN:VEVENT
DTSTART;TZID=America/New_York:20260214T100000
DTEND;TZID=America/New_York:20260214T110000
DTSTAMP:20260423T210347
CREATED:20251210T144054Z
LAST-MODIFIED:20260227T171844Z
UID:10000710-1771063200-1771066800@history.pgparks.com
SUMMARY:I Heart Zumba
DESCRIPTION:Dance your way into fitness with a family Zumba® class! This class brings together all members of your family for fun and easy-to-follow dance moves to upbeat music!Registration Required. Level: All.
URL:https://history.pgparks.com/event_list/i-heart-zumba/2026-02-14
CATEGORIES:Fitness,Free,Health & Wellness
ATTACH;FMTTYPE=image/jpeg:https://history.pgparks.com/wp-content/uploads/2025/12/I-Heart-Zumba.jpg
END:VEVENT
BEGIN:VEVENT
DTSTART;TZID=America/New_York:20260214T100000
DTEND;TZID=America/New_York:20260214T113000
DTSTAMP:20260423T210347
CREATED:20260210T213157Z
LAST-MODIFIED:20260211T210628Z
UID:10001217-1771063200-1771068600@history.pgparks.com
SUMMARY:A Sweet History: Chocolate Through the Ages with Joyce White
DESCRIPTION:This Valentine’s Day\, bring a loved one to embark on a delicious journey through the history of chocolate with food historian Joyce White\, as she reveals how this beloved treat has been prepared and enjoyed throughout the centuries. Discover fascinating recipes from the past and experience a hands-on chocolate activity and tasting. Don’t miss this flavorful exploration of one of the world’s most cherished indulgences!
URL:https://history.pgparks.com/event_list/a-sweet-history
CATEGORIES:History,Lifestyle & Learning
ATTACH;FMTTYPE=image/png:https://history.pgparks.com/wp-content/uploads/2026/02/A-Sweet-History-2026-600x400-1.png
END:VEVENT
BEGIN:VEVENT
DTSTART;TZID=America/New_York:20260214T103000
DTEND;TZID=America/New_York:20260214T113000
DTSTAMP:20260423T210347
CREATED:20251210T143547Z
LAST-MODIFIED:20260227T171930Z
UID:10000654-1771065000-1771068600@history.pgparks.com
SUMMARY:I Heart Yoga
DESCRIPTION:Stretch toward your fitness goals! Learn basic yoga to improve health and flexibility through deep breathing and controlled stretching. Reduce stress\, get better sleep\, and build muscle stamina as you practice new or previously learned yoga skills.
URL:https://history.pgparks.com/event_list/i-heart-yoga-2/2026-02-14
CATEGORIES:Fitness,Free,Health & Wellness,Lifestyle & Learning
ATTACH;FMTTYPE=image/jpeg:https://history.pgparks.com/wp-content/uploads/2025/12/I-Heart-Yoga.jpg
END:VEVENT
BEGIN:VEVENT
DTSTART;TZID=America/New_York:20260216T180000
DTEND;TZID=America/New_York:20260216T190000
DTSTAMP:20260423T210347
CREATED:20251204T161831Z
LAST-MODIFIED:20260407T140415Z
UID:10000531-1771264800-1771268400@history.pgparks.com
SUMMARY:Stronger Together
DESCRIPTION:Kick off 2026 with our virtual “New Year\, New You: Stronger Together” program! This program is designed to empower you with the knowledge and physical strength to make lasting changes\, all from the comfort and convenience of your own home. This isn’t just about lifting weights; it’s a comprehensive journey to build a stronger\, more resilient you\, both inside and out. The class will include an educational component on strength training\, providing you with the understanding you need to maximize your results and build a sustainable fitness routine.Ages 13 & up; FREE \n\n\n\n \n\n\n\nJOIN VIRTUAL CALL
URL:https://history.pgparks.com/event_list/stronger-together
CATEGORIES:Fitness,Health & Wellness,Virtual
ATTACH;FMTTYPE=image/jpeg:https://history.pgparks.com/wp-content/uploads/2025/12/Stronger-Together.jpg
END:VEVENT
BEGIN:VEVENT
DTSTART;TZID=America/New_York:20260217T090000
DTEND;TZID=America/New_York:20260217T103000
DTSTAMP:20260423T210347
CREATED:20251210T184346Z
LAST-MODIFIED:20260326T132314Z
UID:10000783-1771318800-1771324200@history.pgparks.com
SUMMARY:Fit & Strong
DESCRIPTION:Are you looking for a class to improve exercise frequency\, increase strength\, and help with goal setting to promote overall health? Join us for Fit & Strong\, a program that combines aerobics\, stretching\, balance\, strength\, endurance exercises\, and health education to promote healthy behavior changes. 
URL:https://history.pgparks.com/event_list/fit-strong/2026-02-17
CATEGORIES:Fitness,Free,Health & Wellness
ATTACH;FMTTYPE=image/jpeg:https://history.pgparks.com/wp-content/uploads/2026/02/Fit-and-Strong-2026-600x400-1.jpg
END:VEVENT
BEGIN:VEVENT
DTSTART;TZID=America/New_York:20260217T093000
DTEND;TZID=America/New_York:20260217T103000
DTSTAMP:20260423T210347
CREATED:20251210T185614Z
LAST-MODIFIED:20260327T133752Z
UID:10000846-1771320600-1771324200@history.pgparks.com
SUMMARY:Living Strong
DESCRIPTION:Whether you’re a graduate of Fit & Strong! or new to group fitness and would like a challenge\, Living Strong is a great way to stay active and build strength in a supportive environment. This class includes strength training\, aerobic exercise\, balance\, flexibility and more\, along with goal setting to help you stay motivated and consistent. Come improve your endurance\, boost your energy\, and keep Living Strong!
URL:https://history.pgparks.com/event_list/living-strong/2026-02-17
CATEGORIES:Fitness,Health & Wellness,Senior
ATTACH;FMTTYPE=image/jpeg:https://history.pgparks.com/wp-content/uploads/2026/02/Living-Strong-2026-600x400-1.jpg
END:VEVENT
BEGIN:VEVENT
DTSTART;TZID=America/New_York:20260218T180000
DTEND;TZID=America/New_York:20260218T190000
DTSTAMP:20260423T210347
CREATED:20251210T152454Z
LAST-MODIFIED:20260127T172348Z
UID:10000767-1771437600-1771441200@history.pgparks.com
SUMMARY:Sweetheart Swaps: Rethinking Sugar Nutrition Workshop
DESCRIPTION:Learn how to spot hidden sugars\, understand their impact on your health\, and discover smarter\, sweeter swaps in this virtual workshop. Find out how small changes in your sugar habits can lead to big benefits for your heart health.
URL:https://history.pgparks.com/event_list/sweetheart-swaps-rethinking-sugar-nutrition-workshop
CATEGORIES:Health & Wellness,Lifestyle & Learning,Virtual
ATTACH;FMTTYPE=image/jpeg:https://history.pgparks.com/wp-content/uploads/2025/12/Hypertension-Workshop-1.jpg
END:VEVENT
BEGIN:VEVENT
DTSTART;TZID=America/New_York:20260219T090000
DTEND;TZID=America/New_York:20260219T103000
DTSTAMP:20260423T210347
CREATED:20251210T184346Z
LAST-MODIFIED:20260326T132314Z
UID:10000784-1771491600-1771497000@history.pgparks.com
SUMMARY:Fit & Strong
DESCRIPTION:Are you looking for a class to improve exercise frequency\, increase strength\, and help with goal setting to promote overall health? Join us for Fit & Strong\, a program that combines aerobics\, stretching\, balance\, strength\, endurance exercises\, and health education to promote healthy behavior changes. 
URL:https://history.pgparks.com/event_list/fit-strong/2026-02-19
CATEGORIES:Fitness,Free,Health & Wellness
ATTACH;FMTTYPE=image/jpeg:https://history.pgparks.com/wp-content/uploads/2026/02/Fit-and-Strong-2026-600x400-1.jpg
END:VEVENT
BEGIN:VEVENT
DTSTART;TZID=America/New_York:20260219T093000
DTEND;TZID=America/New_York:20260219T103000
DTSTAMP:20260423T210347
CREATED:20251210T185614Z
LAST-MODIFIED:20260327T133752Z
UID:10000847-1771493400-1771497000@history.pgparks.com
SUMMARY:Living Strong
DESCRIPTION:Whether you’re a graduate of Fit & Strong! or new to group fitness and would like a challenge\, Living Strong is a great way to stay active and build strength in a supportive environment. This class includes strength training\, aerobic exercise\, balance\, flexibility and more\, along with goal setting to help you stay motivated and consistent. Come improve your endurance\, boost your energy\, and keep Living Strong!
URL:https://history.pgparks.com/event_list/living-strong/2026-02-19
CATEGORIES:Fitness,Health & Wellness,Senior
ATTACH;FMTTYPE=image/jpeg:https://history.pgparks.com/wp-content/uploads/2026/02/Living-Strong-2026-600x400-1.jpg
END:VEVENT
BEGIN:VEVENT
DTSTART;TZID=America/New_York:20260219T100000
DTEND;TZID=America/New_York:20260219T113000
DTSTAMP:20260423T210347
CREATED:20260218T144934Z
LAST-MODIFIED:20260218T161212Z
UID:10001249-1771495200-1771500600@history.pgparks.com
SUMMARY:Above & Below: Insect Investigations!
DESCRIPTION:Step into the buzzing world of incredible insects and discover how these tiny creatures impact our environment! Explore their life cycles\, body parts\, communication\, adaptations\, and their remarkable engineering skills. Using science tools like microscopes\, magnifying glasses\, and more\, get up close and personal with some real live crawlers!
URL:https://history.pgparks.com/event_list/above-below-insect-investigations
CATEGORIES:Lifestyle & Learning,Nature & Outdoor,Youth
ATTACH;FMTTYPE=image/jpeg:https://history.pgparks.com/wp-content/uploads/2026/02/Above-and-Below-2026-600x400-1.jpg
END:VEVENT
BEGIN:VEVENT
DTSTART;TZID=America/New_York:20260219T180000
DTEND;TZID=America/New_York:20260219T190000
DTSTAMP:20260423T210347
CREATED:20260205T170407Z
LAST-MODIFIED:20260211T214853Z
UID:10001211-1771524000-1771527600@history.pgparks.com
SUMMARY:Corazones Fuertes: Salud del Corazón para Familias Latinas de Maryland
DESCRIPTION:Jueves\, 19 de febrero\, 6–7 pm \n\n\n\nLas enfermedades del corazón siguen siendo un gran problema de salud para las familias latinas en Maryland\, pero muchos riesgos se pueden prevenir con la ayuda correcta. En este taller\, el equipo de Zócalo Health compartirá ideas simples y culturales para cuidar su corazón a cualquier edad. Todas las edades son bienvenidas; GRATIS \n\n\n\nSe requiere inscripción. Taller virtual
URL:https://history.pgparks.com/event_list/corazones-fuertes
CATEGORIES:Health & Wellness,Virtual
ATTACH;FMTTYPE=image/jpeg:https://history.pgparks.com/wp-content/uploads/2026/02/Hispanic-Heritage-2026-600x400-1.jpg
END:VEVENT
BEGIN:VEVENT
DTSTART;TZID=America/New_York:20260220T160000
DTEND;TZID=America/New_York:20260220T180000
DTSTAMP:20260423T210347
CREATED:20260218T153337Z
LAST-MODIFIED:20260218T161443Z
UID:10001254-1771603200-1771610400@history.pgparks.com
SUMMARY:Nature Makers Space: Basquiat Inspirations
DESCRIPTION:Join us for a variety of projects and activities utilizing materials from the natural world. We will embark on a new creative endeavor to make anything from color-changing lemonade to baskets woven out of invasive species. Come explore what your hands can create using natural materials!
URL:https://history.pgparks.com/event_list/nature-makers-space-basquiat-inspirations
CATEGORIES:Arts,Lifestyle & Learning,Nature & Outdoor,Teens
ATTACH;FMTTYPE=image/jpeg:https://history.pgparks.com/wp-content/uploads/2026/02/Nature-Makers-Space-2026-600x400-1.jpg
END:VEVENT
BEGIN:VEVENT
DTSTART;TZID=America/New_York:20260221T100000
DTEND;TZID=America/New_York:20260221T110000
DTSTAMP:20260423T210347
CREATED:20251210T144054Z
LAST-MODIFIED:20260227T171844Z
UID:10000711-1771668000-1771671600@history.pgparks.com
SUMMARY:I Heart Zumba
DESCRIPTION:Dance your way into fitness with a family Zumba® class! This class brings together all members of your family for fun and easy-to-follow dance moves to upbeat music!Registration Required. Level: All.
URL:https://history.pgparks.com/event_list/i-heart-zumba/2026-02-21
CATEGORIES:Fitness,Free,Health & Wellness
ATTACH;FMTTYPE=image/jpeg:https://history.pgparks.com/wp-content/uploads/2025/12/I-Heart-Zumba.jpg
END:VEVENT
BEGIN:VEVENT
DTSTART;TZID=America/New_York:20260221T100000
DTEND;TZID=America/New_York:20260221T160000
DTSTAMP:20260423T210347
CREATED:20260218T153741Z
LAST-MODIFIED:20260218T161604Z
UID:10001255-1771668000-1771689600@history.pgparks.com
SUMMARY:Outdoor Adventures: Huntley Meadows
DESCRIPTION:Let our expert naturalists take you around the region to discover natural history and enjoy new adventures. An outdoor adventure for curious adults who want to explore!
URL:https://history.pgparks.com/event_list/outdoor-adventures-huntley-meadows
CATEGORIES:Lifestyle & Learning,Nature & Outdoor
ATTACH;FMTTYPE=image/jpeg:https://history.pgparks.com/wp-content/uploads/2026/02/Outdoor-Adventures-2026-600x400-1.jpg
END:VEVENT
BEGIN:VEVENT
DTSTART;TZID=America/New_York:20260221T103000
DTEND;TZID=America/New_York:20260221T113000
DTSTAMP:20260423T210347
CREATED:20251210T143547Z
LAST-MODIFIED:20260227T171930Z
UID:10000655-1771669800-1771673400@history.pgparks.com
SUMMARY:I Heart Yoga
DESCRIPTION:Stretch toward your fitness goals! Learn basic yoga to improve health and flexibility through deep breathing and controlled stretching. Reduce stress\, get better sleep\, and build muscle stamina as you practice new or previously learned yoga skills.
URL:https://history.pgparks.com/event_list/i-heart-yoga-2/2026-02-21
CATEGORIES:Fitness,Free,Health & Wellness,Lifestyle & Learning
ATTACH;FMTTYPE=image/jpeg:https://history.pgparks.com/wp-content/uploads/2025/12/I-Heart-Yoga.jpg
END:VEVENT
BEGIN:VEVENT
DTSTART;TZID=America/New_York:20260221T120000
DTEND;TZID=America/New_York:20260221T140000
DTSTAMP:20260423T210347
CREATED:20260205T153226Z
LAST-MODIFIED:20260219T185736Z
UID:10001206-1771675200-1771682400@history.pgparks.com
SUMMARY:Charcuterie Creations
DESCRIPTION:Come and join us and create your own charcuterie board. Add fruit\, cheese\, crackers\, and veggies. This will be immersive and hands-on. Guaranteed to unleash the chef in you!
URL:https://history.pgparks.com/event_list/charcuterie-creations
CATEGORIES:Health & Wellness,Youth
ATTACH;FMTTYPE=image/jpeg:https://history.pgparks.com/wp-content/uploads/2026/02/Charcuterie-Creations-2026-600x400-1.jpg
END:VEVENT
BEGIN:VEVENT
DTSTART;TZID=America/New_York:20260222T103000
DTEND;TZID=America/New_York:20260222T113000
DTSTAMP:20260423T210347
CREATED:20260114T142134Z
LAST-MODIFIED:20260220T223842Z
UID:10000963-1771756200-1771759800@history.pgparks.com
SUMMARY:Cub Corner
DESCRIPTION:Celebrate the opening of our new exhibition\, “The Berliner Helicopter: America’s Forgotten Helicopter\,” with a reading of “Rosie Revere\, Engineer\,” by Andrea Beaty. After the story\, little learners can put their creativity to the test by building and decorating their own flying contraptions—just like Rosie! This program is recommended for children ages 3-6. This program is free. Register in advance to secure your spot! Walk-in spaces will be available on a first-come\, first-served basis. Register for activity code 20658-115K. \n\n\n\nFor more information: 301-864-6029
URL:https://history.pgparks.com/event_list/cub-corner-2-2
CATEGORIES:Free,Lifestyle & Learning,Literary,Youth
ATTACH;FMTTYPE=image/png:https://history.pgparks.com/wp-content/uploads/2024/09/cub.png
END:VEVENT
BEGIN:VEVENT
DTSTART;TZID=America/New_York:20260223T110000
DTEND;TZID=America/New_York:20260223T120000
DTSTAMP:20260423T210348
CREATED:20251210T183338Z
LAST-MODIFIED:20260220T223201Z
UID:10000769-1771844400-1771848000@history.pgparks.com
SUMMARY:Diabetes Prevention Workshop
DESCRIPTION:Learn practical strategies and tools to take control of your health. This engaging session focuses on lifestyle changes\, nutrition tips\, and exercise ideas to help reduce the risk of developing diabetes. Perfect for anyone looking to make informed and sustainable choices for a healthier future. Stay after the session for a free health screening!
URL:https://history.pgparks.com/event_list/diabetes-prevention-workshop
CATEGORIES:Free,Health & Wellness,Lifestyle & Learning,Senior,Workshops
ATTACH;FMTTYPE=image/jpeg:https://history.pgparks.com/wp-content/uploads/2025/12/Diabetes-Prevention-Workshop.jpg
END:VEVENT
BEGIN:VEVENT
DTSTART;TZID=America/New_York:20260224T090000
DTEND;TZID=America/New_York:20260224T103000
DTSTAMP:20260423T210348
CREATED:20251210T184346Z
LAST-MODIFIED:20260326T132314Z
UID:10000785-1771923600-1771929000@history.pgparks.com
SUMMARY:Fit & Strong
DESCRIPTION:Are you looking for a class to improve exercise frequency\, increase strength\, and help with goal setting to promote overall health? Join us for Fit & Strong\, a program that combines aerobics\, stretching\, balance\, strength\, endurance exercises\, and health education to promote healthy behavior changes. 
URL:https://history.pgparks.com/event_list/fit-strong/2026-02-24
CATEGORIES:Fitness,Free,Health & Wellness
ATTACH;FMTTYPE=image/jpeg:https://history.pgparks.com/wp-content/uploads/2026/02/Fit-and-Strong-2026-600x400-1.jpg
END:VEVENT
END:VCALENDAR