BEGIN:VCALENDAR
VERSION:2.0
PRODID:-//Park and Recreation - Prince Georges County MD - ECPv6.15.18//NONSGML v1.0//EN
CALSCALE:GREGORIAN
METHOD:PUBLISH
X-ORIGINAL-URL:https://history.pgparks.com
X-WR-CALDESC:Events for Park and Recreation - Prince Georges County MD
REFRESH-INTERVAL;VALUE=DURATION:PT1H
X-Robots-Tag:noindex
X-PUBLISHED-TTL:PT1H
BEGIN:VTIMEZONE
TZID:America/New_York
BEGIN:DAYLIGHT
TZOFFSETFROM:-0500
TZOFFSETTO:-0400
TZNAME:EDT
DTSTART:20250309T070000
END:DAYLIGHT
BEGIN:STANDARD
TZOFFSETFROM:-0400
TZOFFSETTO:-0500
TZNAME:EST
DTSTART:20251102T060000
END:STANDARD
BEGIN:DAYLIGHT
TZOFFSETFROM:-0500
TZOFFSETTO:-0400
TZNAME:EDT
DTSTART:20260308T070000
END:DAYLIGHT
BEGIN:STANDARD
TZOFFSETFROM:-0400
TZOFFSETTO:-0500
TZNAME:EST
DTSTART:20261101T060000
END:STANDARD
BEGIN:DAYLIGHT
TZOFFSETFROM:-0500
TZOFFSETTO:-0400
TZNAME:EDT
DTSTART:20270314T070000
END:DAYLIGHT
BEGIN:STANDARD
TZOFFSETFROM:-0400
TZOFFSETTO:-0500
TZNAME:EST
DTSTART:20271107T060000
END:STANDARD
END:VTIMEZONE
BEGIN:VEVENT
DTSTART;TZID=America/New_York:20260423T194500
DTEND;TZID=America/New_York:20260423T210000
DTSTAMP:20260423T221109
CREATED:20251111T222605Z
LAST-MODIFIED:20260220T175148Z
UID:10000021-1776973500-1776978000@history.pgparks.com
SUMMARY:African Dance Master Class with Dallas Black Dance Theatre
DESCRIPTION:Dancers learn a mixture of regional dances of Africa from the professionals of Dallas Black Dance Theatre. Women/girls can wear a lappa (two yards of African print fabric to be wrapped around the waist). Spaces are limited; advanced registration is recommended. Tickets $20 for participants\, $10 for observers.
URL:https://history.pgparks.com/event_list/african-dance-master-class-with-dallas-black-dance-theatre
CATEGORIES:Arts,Fitness,Health & Wellness,Special Event,Special Events,Workshops
ATTACH;FMTTYPE=image/jpeg:https://history.pgparks.com/wp-content/uploads/2025/07/African-Dance-Master-Class-400x400-1.jpg
END:VEVENT
BEGIN:VEVENT
DTSTART;TZID=America/New_York:20260423T180000
DTEND;TZID=America/New_York:20260423T191500
DTSTAMP:20260423T221109
CREATED:20251111T222649Z
LAST-MODIFIED:20260220T175302Z
UID:10000160-1776967200-1776971700@history.pgparks.com
SUMMARY:Liturgical Dance Master Class  with Dallas Black Dance Theatre
DESCRIPTION:Dancers learn praise choreography from the professionals of Dallas Black Dance Theatre. Spaces are limited; advanced registration is recommended. Tickets $20 for participants\, $10 for observers.
URL:https://history.pgparks.com/event_list/liturgical-dance-master-class-with-dallas-black-dance-theatre
CATEGORIES:Arts,Fitness,Health & Wellness,Special Event,Special Events,Workshops
ATTACH;FMTTYPE=image/jpeg:https://history.pgparks.com/wp-content/uploads/2025/07/Liturgical-Dance-Master-Class-400x400-1.jpg
END:VEVENT
BEGIN:VEVENT
DTSTART;TZID=America/New_York:20260423T180000
DTEND;TZID=America/New_York:20260423T190000
DTSTAMP:20260423T221109
CREATED:20260225T210415Z
LAST-MODIFIED:20260227T214633Z
UID:10002258-1776967200-1776970800@history.pgparks.com
SUMMARY:Get Fit Mobile: Fitness on the Fly
DESCRIPTION:Join our outdoor mobile fitness experience in the scenic parks of Prince George’s County! The Get Fit Mobile unit will supply a range of fitness equipment to create a vibrant workout experience. This class will feature a fusion of body weight\, strength\, and cardio exercises. All fitness levels welcome! Please bring a mat or towel to class. Ages 13 & up; FREE  
URL:https://history.pgparks.com/event_list/get-fit-mobile-fitness-on-the-fly-2/2026-04-23
CATEGORIES:Fitness,Free,Health & Wellness
ATTACH;FMTTYPE=image/jpeg:https://history.pgparks.com/wp-content/uploads/2026/02/Get-Fit-Mobile-2026-600x400-1.jpg
END:VEVENT
BEGIN:VEVENT
DTSTART;TZID=America/New_York:20260423T180000
DTEND;TZID=America/New_York:20260423T190000
DTSTAMP:20260423T221109
CREATED:20260225T210209Z
LAST-MODIFIED:20260225T221106Z
UID:10002206-1776967200-1776970800@history.pgparks.com
SUMMARY:Get Fit Mobile: Fitness on the Fly
DESCRIPTION:Join our outdoor mobile fitness experience in the scenic parks of Prince George’s County! The Get Fit Mobile unit will supply a range of fitness equipment to create a vibrant workout experience. This class will feature a fusion of body weight\, strength\, and cardio exercises. All fitness levels welcome! Please bring a mat or towel to class. Ages 13 & up; FREE  
URL:https://history.pgparks.com/event_list/get-fit-mobile-fitness-on-the-fly/2026-04-23
CATEGORIES:Fitness,Free,Health & Wellness
ATTACH;FMTTYPE=image/jpeg:https://history.pgparks.com/wp-content/uploads/2026/02/Get-Fit-Mobile-2026-600x400-1.jpg
END:VEVENT
BEGIN:VEVENT
DTSTART;TZID=America/New_York:20260423T180000
DTEND;TZID=America/New_York:20260423T190000
DTSTAMP:20260423T221109
CREATED:20260225T201630Z
LAST-MODIFIED:20260323T175426Z
UID:10001713-1776967200-1776970800@history.pgparks.com
SUMMARY:Fitness in the Parks - Zumba
DESCRIPTION:Dance your way into fitness with this outdoor Zumba® class! The use of multicultural dance themes create a dynamic and exciting total body fitness routine. Experience Zumba’s benefits to your mood\, heart\, and dance skills!
URL:https://history.pgparks.com/event_list/fitness-in-the-parks-zumba-2/2026-04-23
CATEGORIES:Fitness,Free,Health & Wellness
ATTACH;FMTTYPE=image/jpeg:https://history.pgparks.com/wp-content/uploads/2026/02/Fitness-in-the-Parks-Zumba-2026-600x400-1.jpg
END:VEVENT
BEGIN:VEVENT
DTSTART;TZID=America/New_York:20260423T130000
DTEND;TZID=America/New_York:20260423T140000
DTSTAMP:20260423T221109
CREATED:20260227T144501Z
LAST-MODIFIED:20260312T171943Z
UID:10002323-1776949200-1776952800@history.pgparks.com
SUMMARY:Farm Science: Incredible Eggs
DESCRIPTION:Join us for hands-on experiments and games that teach you all about eggs. Learn how strong eggs are\, what’s inside\, and which animals lay them\, then meet the farm’s resident egg layers!
URL:https://history.pgparks.com/event_list/farm-science-incredible-eggs
CATEGORIES:Lifestyle & Learning,Nature & Outdoor,Youth
ATTACH;FMTTYPE=image/jpeg:https://history.pgparks.com/wp-content/uploads/2026/02/OMF-Kids-and-Chickens.jpg
END:VEVENT
BEGIN:VEVENT
DTSTART;TZID=America/New_York:20260423T120000
DTEND;TZID=America/New_York:20260423T140000
DTSTAMP:20260423T221109
CREATED:20260225T183802Z
LAST-MODIFIED:20260317T145408Z
UID:10001705-1776945600-1776952800@history.pgparks.com
SUMMARY:Health Screenings & Educational Resources
DESCRIPTION:This is a drop-in event\, please note: receiving a screening is not guaranteed. Screenings will be provided as time and resources allow.  \n\n\n\nTake charge of your health! Join us for a FREE comprehensive health screening with Luminis Health\, where you can get your blood pressure\, glucose\, A1C\, and cholesterol levels checked. You will get all the results of your screening the same day. Based on the screening results\, you will be provided educational resources to help improve your health. Ages 18 & up; FREE.
URL:https://history.pgparks.com/event_list/health-screenings-educational-resources
CATEGORIES:18 and up,Free,Health & Wellness
ATTACH;FMTTYPE=image/jpeg:https://history.pgparks.com/wp-content/uploads/2026/02/Health-Screenings-2026-600x400-1.jpg
END:VEVENT
BEGIN:VEVENT
DTSTART;TZID=America/New_York:20260423T110000
DTEND;TZID=America/New_York:20260423T123000
DTSTAMP:20260423T221109
CREATED:20260225T153638Z
LAST-MODIFIED:20260326T132321Z
UID:10001450-1776942000-1776947400@history.pgparks.com
SUMMARY:Fit & Strong
DESCRIPTION:Are you looking for a class to improve exercise frequency\, increase strength\, and help with goal setting to promote overall health? Join us for “Fit & Strong\,” an evidence-based physical activity program that combines aerobics\, stretching\, balance\, strength\, endurance exercises\, and health education to promote healthy behavior changes. Registration is required.
URL:https://history.pgparks.com/event_list/fit-strong-3/2026-04-23
CATEGORIES:18 and up,Fitness,Free,Health & Wellness
ATTACH;FMTTYPE=image/jpeg:https://history.pgparks.com/wp-content/uploads/2026/02/Fit-and-Strong-2026-600x400-1.jpg
END:VEVENT
BEGIN:VEVENT
DTSTART;TZID=America/New_York:20260423T110000
DTEND;TZID=America/New_York:20260423T120000
DTSTAMP:20260423T221109
CREATED:20260225T183420Z
LAST-MODIFIED:20260317T145538Z
UID:10001704-1776942000-1776945600@history.pgparks.com
SUMMARY:Hypertension Workshop
DESCRIPTION:This educational session explores essential strategies for managing and preventing hypertension. Participants will learn about risk factors\, lifestyle modifications\, and the impact of nutrition and exercise on blood pressure control. The workshop provides practical tools for maintaining heart health and reducing the likelihood of developing hypertension\, empowering attendees to take charge of their well-being. Stay after the session for a free health screening! Ages 18 & up; FREE.
URL:https://history.pgparks.com/event_list/hypertension-workshop-2-2
CATEGORIES:18 and up,Free,Health & Wellness,Lifestyle & Learning,Workshops
ATTACH;FMTTYPE=image/jpeg:https://history.pgparks.com/wp-content/uploads/2026/02/Fueling-Wellness-with-Fiber-2026-600x400-1.jpg
END:VEVENT
BEGIN:VEVENT
DTSTART;TZID=America/New_York:20260423T110000
DTEND;TZID=America/New_York:20260423T114500
DTSTAMP:20260423T221109
CREATED:20260401T144933Z
LAST-MODIFIED:20260417T202352Z
UID:10003268-1776942000-1776944700@history.pgparks.com
SUMMARY:Toddler Time: Earth Day
DESCRIPTION:Give your little one a head start in understanding the importance of the environment through hands‑on activities\, stories\, songs\, crafts\, and nature exploration\, with each class focusing on a different theme about animals\, plants\, and habitats. Use your senses to learn\, sing\, and enjoy nature with us. Children must be accompanied by an adult.
URL:https://history.pgparks.com/event_list/toddler-time-earth-day
CATEGORIES:Lifestyle & Learning,Nature & Outdoor,Youth
ATTACH;FMTTYPE=image/jpeg:https://history.pgparks.com/wp-content/uploads/2023/08/MRNC-Live-Animals.jpg
END:VEVENT
BEGIN:VEVENT
DTSTART;TZID=America/New_York:20260423T093000
DTEND;TZID=America/New_York:20260423T110000
DTSTAMP:20260423T221109
CREATED:20260225T154554Z
LAST-MODIFIED:20260326T132325Z
UID:10001574-1776936600-1776942000@history.pgparks.com
SUMMARY:Fit & Strong
DESCRIPTION:Are you looking for a class to improve exercise frequency\, increase strength\, and help with goal setting to promote overall health? Join us for Fit & Strong!\, an evidence-based physical activity program that combines aerobics\, stretching\, balance\, strength\, endurance exercises\, and health education to promote healthy behavior changes. Registration is required.
URL:https://history.pgparks.com/event_list/fit-strong-3-2/2026-04-23
CATEGORIES:Fitness,Free,Health & Wellness
ATTACH;FMTTYPE=image/jpeg:https://history.pgparks.com/wp-content/uploads/2026/02/Fit-and-Strong-2026-600x400-1.jpg
END:VEVENT
BEGIN:VEVENT
DTSTART;TZID=America/New_York:20260423T090000
DTEND;TZID=America/New_York:20260423T103000
DTSTAMP:20260423T221109
CREATED:20251210T184346Z
LAST-MODIFIED:20260326T132314Z
UID:10000802-1776934800-1776940200@history.pgparks.com
SUMMARY:Fit & Strong
DESCRIPTION:Are you looking for a class to improve exercise frequency\, increase strength\, and help with goal setting to promote overall health? Join us for Fit & Strong\, a program that combines aerobics\, stretching\, balance\, strength\, endurance exercises\, and health education to promote healthy behavior changes. 
URL:https://history.pgparks.com/event_list/fit-strong/2026-04-23
CATEGORIES:Fitness,Free,Health & Wellness
ATTACH;FMTTYPE=image/jpeg:https://history.pgparks.com/wp-content/uploads/2026/02/Fit-and-Strong-2026-600x400-1.jpg
END:VEVENT
BEGIN:VEVENT
DTSTART;TZID=America/New_York:20260422T180000
DTEND;TZID=America/New_York:20260422T193000
DTSTAMP:20260423T221109
CREATED:20260225T155951Z
LAST-MODIFIED:20260227T215201Z
UID:10001696-1776880800-1776886200@history.pgparks.com
SUMMARY:Dine\, Learn & Move: Smart Screening for Colon Health
DESCRIPTION:Did you know that screening can find\, and in some cases\, prevent colon cancer? We will learn about the different ways you can reduce your risk of colon cancer – starting with a screening and supported by a healthy diet and regular exercise. As always\, we will kick off the session with some group movement and end with a live cooking demonstration! Registration required. All ages welcome; FREE
URL:https://history.pgparks.com/event_list/dine-learn-move-smart-screening-for-colon-health
CATEGORIES:All Ages,Fitness,Free,Health & Wellness
ATTACH;FMTTYPE=image/jpeg:https://history.pgparks.com/wp-content/uploads/2026/02/DLM-Colon-Health-2026-600x400-1.jpg
END:VEVENT
BEGIN:VEVENT
DTSTART;TZID=America/New_York:20260422T180000
DTEND;TZID=America/New_York:20260422T190000
DTSTAMP:20260423T221109
CREATED:20260225T194526Z
LAST-MODIFIED:20260227T220036Z
UID:10001773-1776880800-1776884400@history.pgparks.com
SUMMARY:Fitness in the Parks - Circuit Workout
DESCRIPTION:Shake up your routine with this dynamic Circuit Workout! Move through a series of timed exercises that target strength\, cardio\, and endurance—perfect for a full-body challenge. Work at your own pace with options for all fitness levels.
URL:https://history.pgparks.com/event_list/fitness-in-the-parks-circuit-workout/2026-04-22
CATEGORIES:Fitness,Free,Health & Wellness
ATTACH;FMTTYPE=image/jpeg:https://history.pgparks.com/wp-content/uploads/2024/03/Sat.-Total-Body-HIIT-Fitness.jpg
END:VEVENT
BEGIN:VEVENT
DTSTART;TZID=America/New_York:20260422T093000
DTEND;TZID=America/New_York:20260422T103000
DTSTAMP:20260423T221109
CREATED:20260225T153127Z
LAST-MODIFIED:20260317T140237Z
UID:10001318-1776850200-1776853800@history.pgparks.com
SUMMARY:Living Strong
DESCRIPTION:Whether you’re a graduate of Fit & Strong! or new to group fitness and would like a challenge\, Living Strong is a great way to stay active and build strength in a supportive environment. This class includes strength training\, aerobic exercise\, balance\, flexibility and more\, along with goal setting to help you stay motivated and consistent. Come improve your endurance\, boost your energy\, and keep Living Strong!
URL:https://history.pgparks.com/event_list/living-strong-2-2/2026-04-22
CATEGORIES:18 and up,Fitness,Health & Wellness
ATTACH;FMTTYPE=image/jpeg:https://history.pgparks.com/wp-content/uploads/2026/02/Living-Strong-2026-600x400-1.jpg
END:VEVENT
BEGIN:VEVENT
DTSTART;TZID=America/New_York:20260422T080000
DTEND;TZID=America/New_York:20260422T090000
DTSTAMP:20260423T221109
CREATED:20260225T185207Z
LAST-MODIFIED:20260227T220141Z
UID:10001833-1776844800-1776848400@history.pgparks.com
SUMMARY:Fitness in the Parks - AM Sweatshop
DESCRIPTION:Join us for this fun\, effective cardio workout that combines several different workout methods including aerobics and bodyweight strength training. Enjoy a high-energy group environment as you improve your strength and cardiovascular endurance.
URL:https://history.pgparks.com/event_list/fitness-in-the-parks-am-sweatshop/2026-04-22
CATEGORIES:Fitness,Free,Health & Wellness
ATTACH;FMTTYPE=image/jpeg:https://history.pgparks.com/wp-content/uploads/2025/02/Fitness-in-the-Parks-AM-Sweatshop-400x400-1.jpg
END:VEVENT
BEGIN:VEVENT
DTSTART;TZID=America/New_York:20260421T110000
DTEND;TZID=America/New_York:20260421T123000
DTSTAMP:20260423T221109
CREATED:20260225T153638Z
LAST-MODIFIED:20260326T132321Z
UID:10001449-1776769200-1776774600@history.pgparks.com
SUMMARY:Fit & Strong
DESCRIPTION:Are you looking for a class to improve exercise frequency\, increase strength\, and help with goal setting to promote overall health? Join us for “Fit & Strong\,” an evidence-based physical activity program that combines aerobics\, stretching\, balance\, strength\, endurance exercises\, and health education to promote healthy behavior changes. Registration is required.
URL:https://history.pgparks.com/event_list/fit-strong-3/2026-04-21
CATEGORIES:18 and up,Fitness,Free,Health & Wellness
ATTACH;FMTTYPE=image/jpeg:https://history.pgparks.com/wp-content/uploads/2026/02/Fit-and-Strong-2026-600x400-1.jpg
END:VEVENT
BEGIN:VEVENT
DTSTART;TZID=America/New_York:20260421T110000
DTEND;TZID=America/New_York:20260421T120000
DTSTAMP:20260423T221109
CREATED:20260227T145046Z
LAST-MODIFIED:20260227T215255Z
UID:10002324-1776769200-1776772800@history.pgparks.com
SUMMARY:Farm Story & Craft: Spring
DESCRIPTION:Come on down to the farm for a spring-themed story and craft\, followed by a garden tour!
URL:https://history.pgparks.com/event_list/farm-story-craft-spring
CATEGORIES:Lifestyle & Learning,Nature & Outdoor,Youth
ATTACH;FMTTYPE=image/png:https://history.pgparks.com/wp-content/uploads/2025/06/Farm-Craft-400x400-1.png
END:VEVENT
BEGIN:VEVENT
DTSTART;TZID=America/New_York:20260421T093000
DTEND;TZID=America/New_York:20260421T110000
DTSTAMP:20260423T221109
CREATED:20260225T154554Z
LAST-MODIFIED:20260326T132325Z
UID:10001573-1776763800-1776769200@history.pgparks.com
SUMMARY:Fit & Strong
DESCRIPTION:Are you looking for a class to improve exercise frequency\, increase strength\, and help with goal setting to promote overall health? Join us for Fit & Strong!\, an evidence-based physical activity program that combines aerobics\, stretching\, balance\, strength\, endurance exercises\, and health education to promote healthy behavior changes. Registration is required.
URL:https://history.pgparks.com/event_list/fit-strong-3-2/2026-04-21
CATEGORIES:Fitness,Free,Health & Wellness
ATTACH;FMTTYPE=image/jpeg:https://history.pgparks.com/wp-content/uploads/2026/02/Fit-and-Strong-2026-600x400-1.jpg
END:VEVENT
BEGIN:VEVENT
DTSTART;TZID=America/New_York:20260421T090000
DTEND;TZID=America/New_York:20260421T103000
DTSTAMP:20260423T221109
CREATED:20251210T184346Z
LAST-MODIFIED:20260326T132314Z
UID:10000801-1776762000-1776767400@history.pgparks.com
SUMMARY:Fit & Strong
DESCRIPTION:Are you looking for a class to improve exercise frequency\, increase strength\, and help with goal setting to promote overall health? Join us for Fit & Strong\, a program that combines aerobics\, stretching\, balance\, strength\, endurance exercises\, and health education to promote healthy behavior changes. 
URL:https://history.pgparks.com/event_list/fit-strong/2026-04-21
CATEGORIES:Fitness,Free,Health & Wellness
ATTACH;FMTTYPE=image/jpeg:https://history.pgparks.com/wp-content/uploads/2026/02/Fit-and-Strong-2026-600x400-1.jpg
END:VEVENT
BEGIN:VEVENT
DTSTART;TZID=America/New_York:20260420T183000
DTEND;TZID=America/New_York:20260420T193000
DTSTAMP:20260423T221109
CREATED:20260225T184825Z
LAST-MODIFIED:20260227T220807Z
UID:10001893-1776709800-1776713400@history.pgparks.com
SUMMARY:Fitness in the Parks - Zumba
DESCRIPTION:Dance your way into fitness with this Zumba® class!  The use of multicultural dance themes create a dynamic and exciting total body fitness routine. Experience Zumba’s benefits to your mood\, heart\, and dance skills!
URL:https://history.pgparks.com/event_list/fitness-in-the-parks-zumba/2026-04-20
CATEGORIES:Fitness,Free,Health & Wellness
ATTACH;FMTTYPE=image/jpeg:https://history.pgparks.com/wp-content/uploads/2026/02/Fitness-in-the-Parks-Zumba-2026-600x400-1.jpg
END:VEVENT
BEGIN:VEVENT
DTSTART;TZID=America/New_York:20260420T093000
DTEND;TZID=America/New_York:20260420T103000
DTSTAMP:20260423T221109
CREATED:20260225T153127Z
LAST-MODIFIED:20260317T140237Z
UID:10001317-1776677400-1776681000@history.pgparks.com
SUMMARY:Living Strong
DESCRIPTION:Whether you’re a graduate of Fit & Strong! or new to group fitness and would like a challenge\, Living Strong is a great way to stay active and build strength in a supportive environment. This class includes strength training\, aerobic exercise\, balance\, flexibility and more\, along with goal setting to help you stay motivated and consistent. Come improve your endurance\, boost your energy\, and keep Living Strong!
URL:https://history.pgparks.com/event_list/living-strong-2-2/2026-04-20
CATEGORIES:18 and up,Fitness,Health & Wellness
ATTACH;FMTTYPE=image/jpeg:https://history.pgparks.com/wp-content/uploads/2026/02/Living-Strong-2026-600x400-1.jpg
END:VEVENT
BEGIN:VEVENT
DTSTART;TZID=America/New_York:20260420T083000
DTEND;TZID=America/New_York:20260420T093000
DTSTAMP:20260423T221109
CREATED:20260331T053000Z
LAST-MODIFIED:20260330T113202Z
UID:10003205-1776673800-1776677400@history.pgparks.com
SUMMARY:Fitness in the Parks - Urban Line Dancing   
DESCRIPTION:Let your creativity loose on the dance floor! Learn all the latest dances suitable for beginners and seasoned line dancers. Enjoy this great way to exercise\, socialize\, and energize yourself.
URL:https://history.pgparks.com/event_list/fitness-in-the-parks-urban-line-dancing/2026-04-20
CATEGORIES:Fitness,Free,Health & Wellness
ATTACH;FMTTYPE=image/jpeg:https://history.pgparks.com/wp-content/uploads/2026/02/Fitness-in-the-Parks-Spring-Kickoff-2026-600x400-1.jpg
END:VEVENT
BEGIN:VEVENT
DTSTART;TZID=America/New_York:20260418T130000
DTEND;TZID=America/New_York:20260418T160000
DTSTAMP:20260423T221109
CREATED:20260318T171742Z
LAST-MODIFIED:20260417T191031Z
UID:10002789-1776517200-1776528000@history.pgparks.com
SUMMARY:The Business of Music & Performing Arts with Dr. Khadijah Ali Coleman
DESCRIPTION:Designed for musicians and performing artists\, this session covers branding\, booking gigs\, securing royalties\, and building a sustainable career in the performing arts industry.  \n\n\n\nAbout the Presenter: Khadijah Z. Ali-Coleman\, Ed.D.\, is a Baltimore-based singer-songwriter\, poet\, and playwright who has performed nationally and internationally. She served as Prince George’s County Poet Laureate (2023–2025) and is the founder of Liberated Muse and Black Writers for Peace and Social Justice. Her work has been supported by the Maryland State Arts Council and Prince George’s Arts and Humanities Council. She is an associate professor at Coppin State University.
URL:https://history.pgparks.com/event_list/the-business-of-music-performing-arts-with-dr-khadijah-ali-coleman
CATEGORIES:All Ages,Arts,Lifestyle & Learning,Special Event,Workshops
ATTACH;FMTTYPE=image/jpeg:https://history.pgparks.com/wp-content/uploads/2026/03/Business-of-Music-and-Performing-Arts-2026-600x400-1.jpg
END:VEVENT
BEGIN:VEVENT
DTSTART;TZID=America/New_York:20260418T120000
DTEND;TZID=America/New_York:20260418T160000
DTSTAMP:20260423T221109
CREATED:20251224T141430Z
LAST-MODIFIED:20260303T181019Z
UID:10000895-1776513600-1776528000@history.pgparks.com
SUMMARY:Dinosaur Park Open House
DESCRIPTION:Dinosaur Park Open Houses are a free public program on the first and third Saturday of every month and the second Sunday in the summer. No reservations required. Come join us and learn more about fossils\, including the dinosaurs who used to call Maryland home. Guests can expect an orientation and then the opportunity to search the surface of the ground for fossils. No prior registration required. ASL interpretation is offered at each event. All park rules apply (listed below).1. Closed toed shoes required2. No pets or tools allowed inside the fossil site3. Guests cannot cross the rope fence4. There is no digging during this program. All fossils are naturally eroding from the ground5. No running in the fossil site6. No throwing rocks or rolling rocks7. All scientifically important fossils will be kept in trust with the commission to be used for current and future research
URL:https://history.pgparks.com/event_list/dinosaur-park-open-house/2026-04-18
CATEGORIES:All Ages,Free,History,Lifestyle & Learning,Youth
ATTACH;FMTTYPE=image/png:https://history.pgparks.com/wp-content/uploads/2025/12/Dinosaur-Park-600x400-1.png
END:VEVENT
BEGIN:VEVENT
DTSTART;TZID=America/New_York:20260418T103000
DTEND;TZID=America/New_York:20260418T123000
DTSTAMP:20260423T221109
CREATED:20260318T122637Z
LAST-MODIFIED:20260323T190950Z
UID:10002706-1776508200-1776515400@history.pgparks.com
SUMMARY:PG Terps Presents: Bark to the Future - Terps Fur Good
DESCRIPTION:We’re teaming up with Prince George’s County Department of Parks & Recreation to support our local animal shelter\, Prince George’s Animal Services Division for a feel good charity event all about second chances and raising awareness on responsible pet care. For one day only\, all adoption fees are waived\, so finding your new best friend has never been easier! \n\n\n\nCome meet lovable dogs looking for FURever homes\, learn practical tips on keeping pets healthy and happy\, and discover how you can support the shelter year round. Donations of supplies are greatly needed and go directly to shelter operations to help support these loving animals looking for their FURever home! \n\n\n\nWhether you’re ready to adopt\, eager to learn\, or just want to support a great cause\, your presence helps make a real difference one paw at a time. We look forward to seeing you at PGCAN – Terps FUR Good! \n\n\n\nThis is a FREE event. Light refreshments will be provided.
URL:https://history.pgparks.com/event_list/pg-terps-presents-bark-to-the-future-terps-fur-good
CATEGORIES:Lifestyle & Learning
ATTACH;FMTTYPE=image/png:https://history.pgparks.com/wp-content/uploads/2026/03/DogOption.png
END:VEVENT
BEGIN:VEVENT
DTSTART;TZID=America/New_York:20260418T103000
DTEND;TZID=America/New_York:20260418T113000
DTSTAMP:20260423T221109
CREATED:20260327T150352Z
LAST-MODIFIED:20260327T150406Z
UID:10003183-1776508200-1776511800@history.pgparks.com
SUMMARY:Maryland’s Ephemeral Wildflowers
DESCRIPTION:This spring\, join Vegetation Ecologist Kerry Wixted to learn about Maryland’s ephemeral wildflowers and their unique relationships with forest habitats\, pollinators\, and seed dispersers.
URL:https://history.pgparks.com/event_list/marylands-ephemeral-wildflowers
CATEGORIES:Lifestyle & Learning,Nature & Outdoor,Workshops
ATTACH;FMTTYPE=image/jpeg:https://history.pgparks.com/wp-content/uploads/2026/03/ClydeWatsonPollinatorProject19-039.jpg
END:VEVENT
BEGIN:VEVENT
DTSTART;TZID=America/New_York:20260418T103000
DTEND;TZID=America/New_York:20260418T113000
DTSTAMP:20260423T221109
CREATED:20260225T204219Z
LAST-MODIFIED:20260319T142325Z
UID:10002011-1776508200-1776511800@history.pgparks.com
SUMMARY:Fitness in the Parks - Family Zumba
DESCRIPTION:Dance your way into fitness with a family Zumba® class! This class brings together all members of your family for fun and easy-to-follow dance moves to upbeat music.
URL:https://history.pgparks.com/event_list/fitness-in-the-parks-family-zumba/2026-04-18
CATEGORIES:Fitness,Free,Health & Wellness
ATTACH;FMTTYPE=image/jpeg:https://history.pgparks.com/wp-content/uploads/2025/02/Fitness-in-the-Parks-Family-Zumba-400x400-1.jpg
END:VEVENT
BEGIN:VEVENT
DTSTART;TZID=America/New_York:20260418T100000
DTEND;TZID=America/New_York:20260418T170000
DTSTAMP:20260423T221110
CREATED:20260401T143246Z
LAST-MODIFIED:20260401T143300Z
UID:10003266-1776506400-1776531600@history.pgparks.com
SUMMARY:Outdoor Adventures: Henson Creek Trail\, Fort Washington
DESCRIPTION:Designed for active adults who want to test their skills\, these outings offer a mix of hiking\, museums\, art\, fairs\, carnivals\, nature\, and historic sites\, with fees varying depending on trip requirements. Be sure to pack your lunch\, reusable water bottle\, and snacks\, and dress appropriately for the weather.
URL:https://history.pgparks.com/event_list/outdoor-adventures-henson-creek-trail-fort-washington
CATEGORIES:Arts,Fitness,Health & Wellness,History,Nature & Outdoor,Walks/Runs
ATTACH;FMTTYPE=image/png:https://history.pgparks.com/wp-content/uploads/2024/10/MRNC-Adventure-Seekers.png
END:VEVENT
BEGIN:VEVENT
DTSTART;TZID=America/New_York:20260418T090000
DTEND;TZID=America/New_York:20260418T103000
DTSTAMP:20260423T221110
CREATED:20260327T141112Z
LAST-MODIFIED:20260402T124228Z
UID:10003180-1776502800-1776508200@history.pgparks.com
SUMMARY:Basic Birding 101
DESCRIPTION:Grab your binoculars\, or borrow a pair from us\, and join our naturalist for a birdwatching adventure during the spring migration season. Enjoy the beauty of nature as you search for the many birds moving through our area.
URL:https://history.pgparks.com/event_list/basic-birding-101-3/2026-04-18
CATEGORIES:Lifestyle & Learning,Nature & Outdoor,Teens,Youth
ATTACH;FMTTYPE=image/jpeg:https://history.pgparks.com/wp-content/uploads/2026/03/LakeArtemesia25-203.jpg
END:VEVENT
END:VCALENDAR